BEGIN:VCALENDAR
VERSION:2.0
X-WR-CALNAME: Upcoming shows
PRODID:GIGPRESS 2.0 WORDPRESS PLUGIN
CALSCALE:GREGORIAN
X-WR-TIMEZONE:Etc/GMT
METHOD:PUBLISH
BEGIN:VTIMEZONE
TZID:GMT
BEGIN:STANDARD
DTSTART:20071028T010000
TZOFFSETTO:+0000
TZOFFSETFROM:+0000
END:STANDARD
END:VTIMEZONE
BEGIN:VEVENT
SUMMARY:Meera Subramanian at City Space
DESCRIPTION:Tour: A Better World Is Possible graphic novel. Notes: Stories from a Warming World. 6:00-8:30pm. Join Boston University’s Center for Media Innovation and Social Impact at CitySpace for a special event featuring journalists\, filmmakers\, photographers\, activists and scholars sharing intimate stories of survival\, resilience\, identity and memory in a time of environmental upheaval. 
LOCATION:City Space\, 890 Commonwealth Ave.\, Boston\, US
UID:20260513T220000Z-144-amy@sumydesigns.com
URL:https://meerasub.org/tour/
DTSTART;VALUE=DATE-TIME;TZID=GMT:20260513T220000Z
DTEND;VALUE=DATE-TIME;TZID=GMT:20260513T220000Z
DTSTAMP:20260422T021049Z
END:VEVENT
BEGIN:VEVENT
SUMMARY:Meera Subramanian at Barrington Public Library
DESCRIPTION:Tour: A Better World Is Possible graphic novel. Price: free. Notes: Join award winning environmental journalist Meera Subramanian for an engaging all-ages discussion of her new graphic novel\, A Better World Is Possible: Global Youth Confront the Climate Crisis. We encourage students to attend and participate in this free event.    The event will take place on Thursday\, May 14\, at 7 pm in the Salem Family Auditorium at the Barrington Public Library\, our partner in the Land Trust Learning Series. 
LOCATION:Barrington Public Library\, 281 County Rd\, Barrington\, US
UID:20260514T230000Z-133-amy@sumydesigns.com
URL:https://meerasub.org/tour/
DTSTART;VALUE=DATE-TIME;TZID=GMT:20260514T230000Z
DTEND;VALUE=DATE-TIME;TZID=GMT:20260514T230000Z
DTSTAMP:20260422T021049Z
END:VEVENT
BEGIN:VEVENT
SUMMARY:Meera Subramanian at City Space
DESCRIPTION:Tour: A Better World Is Possible graphic novel. Notes: WBUR Festival. Time TBD. Meera will join musician Mark Erelli 
LOCATION:City Space\, 890 Commonwealth Ave.\, Boston\, US
UID:20260530T040000Z-143-amy@sumydesigns.com
URL:https://meerasub.org/tour/
DTSTART;VALUE=DATE-TIME;TZID=GMT:20260530T040000Z
DTEND;VALUE=DATE-TIME;TZID=GMT:20260530T040000Z
DTSTAMP:20260422T021049Z
END:VEVENT
BEGIN:VEVENT
SUMMARY:Meera Subramanian at Melba's
DESCRIPTION:Tour: A Better World Is Possible graphic novel. Price: free. Notes: 12:00-1:00 pm CT. I'll be at this legendary poboy shop dedicated to expanding literacy. Limited free copies of A Better World Is Possible: Global Youth Confront the Climate Crisis will be available! 
LOCATION:Melba's\, 1525 Elysian Fields Ave\, New Orleans\, US
UID:20260620T160000Z-146-amy@sumydesigns.com
URL:https://meerasub.org/tour/
DTSTART;VALUE=DATE-TIME;TZID=GMT:20260620T160000Z
DTEND;VALUE=DATE-TIME;TZID=GMT:20260620T160000Z
DTSTAMP:20260422T021049Z
END:VEVENT
BEGIN:VEVENT
SUMMARY:Meera Subramanian at YA Midwest
DESCRIPTION:Tour: A Better World Is Possible graphic novel. Notes: Details to come. 
LOCATION:YA Midwest\, Naperville\, US
UID:20260725-141-amy@sumydesigns.com
URL:https://meerasub.org/tour/
DTSTART;VALUE=DATE;TZID=GMT:20260725
DTEND;VALUE=DATE;TZID=GMT:20260725
DTSTAMP:20260422T021049Z
END:VEVENT
END:VCALENDAR